BEGIN:VCALENDAR
VERSION:2.0
PRODID:-//wp-events-plugin.com//7.2.3.1//EN
BEGIN:VEVENT
UID:4@cbdi.com.ph
DTSTART:20240817T010000Z
DTEND:20240817T080000Z
DTSTAMP:20241010T070434Z
URL:https://www.cbdi.com.ph/events/kaia-homes-open-house-3/
SUMMARY:Kaia Homes Open House
DESCRIPTION:
ATTACH;FMTTYPE=image/jpeg:https://i0.wp.com/www.cbdi.com.ph/wp-content/upl
 oads/2024/09/AUGUST-KHPL-BUYERS-FIESTA.jpg?fit=1638%2C2048&ssl=1
END:VEVENT
END:VCALENDAR